BEGIN:VCALENDAR
VERSION:2.0
PRODID:-//Netzwerk Cuba - informationsbÃ¼ro - e.V. - ECPv4.6.17//NONSGML v1.0//EN
CALSCALE:GREGORIAN
METHOD:PUBLISH
X-WR-CALNAME:Netzwerk Cuba - informationsbÃ¼ro - e.V.
X-ORIGINAL-URL:http://www.netzwerk-cuba.de
X-WR-CALDESC:Veranstaltungen fÃ¼r Netzwerk Cuba - informationsbÃ¼ro - e.V.
BEGIN:VEVENT
DTSTART;VALUE=DATE:20180605
DTEND;VALUE=DATE:20180625
DTSTAMP:20180623T151251
CREATED:20180602T094103Z
LAST-MODIFIED:20180602T095623Z
UID:3274-1528156800-1529884799@www.netzwerk-cuba.de
SUMMARY:Kuba - Revolution: 60 Jahre mit Fidel und Raul
DESCRIPTION:Kuba &#8211; Revolution: 60 Jahre mit Fidel und Raul\nFotoausstellung der Rosa-Luxemburg-Stiftung und KarEn e.V. \nvom: 05.-24.06.18 \nVernissage am 05. Juni 2018 Beginn: 16.30 Uhr\nOrt: Berlin &#8211; Franz-Mehring-Platz 1 (Foyer des nd-GebÃ¤ude) \nMehr Informationen https://www.rosalux.de/veranstaltung/es_detail/127XF/kuba-60-jahre-revolution-mit-fidel-und-raul/ \nFlyer Fotoausstellung-von-Raul-Abreu-Acuna.pdf \n
URL:http://www.netzwerk-cuba.de/event/kuba-revolution-60-jahre-mit-fidel-und-raul/
LOCATION:Franz Mehring Platz 1\, Berlin
ORGANIZER;CN="KarEn%20e.V.":MAILTO:karen@karen-berlin.de
END:VEVENT
BEGIN:VEVENT
DTSTART;TZID=Europe/Berlin:20180613T183000
DTEND;TZID=Europe/Berlin:20180810T183000
DTSTAMP:20180623T151251
CREATED:20180530T212434Z
LAST-MODIFIED:20180530T212439Z
UID:3267-1528914600-1533925800@www.netzwerk-cuba.de
SUMMARY:Gesichter Cubas
DESCRIPTION:Fotoausstellung Wolfgang Frotscher &#8211; Cuba 2016/17 und 2018 \nDer Journalist Wolfgang Frotscher aus Frankfurt (Oder) besuchte 2016/17 und 2018 fÃ¼r insgesamt fast zwei Monate die Karibikinsel. Ihm gelang es\, vor allem auf seinen Wegen abseits der TouristenstrÃ¶me\, viel vom Alltag Cubas zu sehen\, zu erleben und im Bild festzuhalten. \nZur Vernissage der Fotoausstellung gibt es auch eine Filmpremiere: &#8222;Von Columbus bis zur Schweinebucht&#8220; am 13.Juni 2018\, 18:30 Uhr im nd-GebÃ¤ude in 10243 Berlin\, Franz-Mehring-Platz 1. \nEinladung-2018-2-doppel-1 \nInfo \nwww.wolfgang-frotscher.de \n
URL:http://www.netzwerk-cuba.de/event/gesichter-cubas/
END:VEVENT
BEGIN:VEVENT
DTSTART;TZID=Europe/Berlin:20180625T170000
DTEND;TZID=Europe/Berlin:20180625T190000
DTSTAMP:20180623T151251
CREATED:20180618T131251Z
LAST-MODIFIED:20180618T131256Z
UID:3362-1529946000-1529953200@www.netzwerk-cuba.de
SUMMARY:Kubas Zukunft: Nach den Wahlen in neuer Verfassung und jugendlichem Elan?!
DESCRIPTION:Die FBK lÃ¤dt ein &#8211; Vortrag und Diskussion mit\nProfessor JosÃ© RamÃ³n Neira Milian\nProfessor fÃ¼r Soziologie\, UniversitÃ¤t Sancti Spiritus\, Kuba \nMit einem mehrmonatigen Wahlprozess wurden in Kuba kÃ¼rzlich neue\nAbgeordnete auf allen administrativen Ebenen der Volksmacht (â€žPoder\nPopularâ€œ) gewÃ¤hlt. Darunter viele Frauen und junge Menschen. PrÃ¤sident\ndes Staats- und des Ministerrats wurde Miguel DÃ­az-Canel BermÃºdez (58).\nDamit tritt eine neue Generation an die Spitze des Staates.\nKontinuitÃ¤t der sozialistischen Entwicklung ist das Programm\, zahlreiche\nInnovationen inbegriffen. Es wird an einer Ã„nderung der Verfassung\ngearbeitet\, die breit diskutiert und dann der BevÃ¶lkerung zur Ratifizierung vorgelegt wird.\nDie junge Generation hat unterschiedliche Positionen\, wie sie sich die\nZukunft Kubas vorstellt.\nWelche Entwicklung ist in Kuba absehbar und vorgesehen? Dazu wird uns\nder Soziologe JosÃ© RamÃ³n Neira Milian Fragen beantworten kÃ¶nnen wie\nkaum ein Zweiter.\nNatÃ¼rlich kÃ¶nnen auch Fragen zu anderen Themen Ã¼ber Kuba gestellt und\ndiskutiert werden. \nModeration: Dr. Edgar GÃ¶ll (Soziologe und Zukunftsforscher\, Berlin)\nMontag\, 25. Juni 2018\, 17 &#8211; 19 Uhr\nLATEINAMERIKA-INSTITUT (LAI) der FU Berlin\nRaum K3 Souterrain\nLateinamerika-Institut\, RÃ¼desheimer Str. 54-56\, 14197 Berlin (U3-Breitenbachplatz) \n  \nVeranstaltung JosÃ© Neira \n
URL:http://www.netzwerk-cuba.de/event/kubas-zukunft-nach-den-wahlen-in-neuer-verfassung-und-jugendlichem-elan/
END:VEVENT
BEGIN:VEVENT
DTSTART;TZID=Europe/Berlin:20180625T193000
DTEND;TZID=Europe/Berlin:20180625T193000
DTSTAMP:20180623T151251
CREATED:20180620T093403Z
LAST-MODIFIED:20180620T093403Z
UID:3371-1529955000-1529955000@www.netzwerk-cuba.de
SUMMARY:Wann geht der Himmel wieder auf? Esther Bejaranos Kuba-Tour als Dokfilm
DESCRIPTION:Von Lothar Zieske \nÂ»Wo der Himmel aufgeht. Bejarano und Microphone Mafia in KubaÂ«\, Regisseur: Tobias Kriele\, BRD 2018\, 45 min\, dt./span. OmU; weitere AuffÃ¼hrungen: 25.6. GÃ¼tersloh\, Potemkin\, 19.30 Uhr; 27.9. Chemnitz\, AJZ\, 19.30 Uhr \nEsther Bejarano ist 93 Jahre alt. Im Januar 2017 unternahm sie mit der HipHop-Band Microphone Mafia eine Konzerttournee durch Kuba. In der Band spielen ihr Sohn Joram\, Kutlu Yurtseven und Rossi Pennino. Â»Drei Generationen\, drei Religionen antifaschistisch vereint â€“ das ist schon was BesonderesÂ« sagte die antifaschistische KÃ¼nstlerin\, die als JÃ¼din die KZ Auschwitz und RavensbrÃ¼ck Ã¼berlebte\, in einer GruÃŸbotschaft der Freundschaftsgesellschaft BRDâ€“Kuba. Yurtseven und Pennino gehÃ¶ren der jÃ¼ngeren Generation an; der erste ist Moslem und der zweite Christ. \nÃœber die Kuba-Tour machte Tobias Kriele den Film Â»Wo der Himmel aufgehtÂ«. Der Titel bezieht sich auf einen Song\, den Yurtseven und Pennino in ihrem KÃ¶lschen Dialekt singen. Dort heiÃŸt es (auf Hochdeutsch): Â»Wann geht der Himmel wieder auf?Â« Es ist die Frage von Migranten\, die ein Land suchen\, in dem sie eine Chance auf ein wÃ¼rdiges Leben haben. Kuba â€“ so sagt der Filmtitel â€“ ist ein solches Land. Esther Bejarano hat dieses Land aber nicht nur als Sozialistin besuchen und dort singen wollen\, sondern sie suchte dort (wie es in dem Werbetext zum Film heiÃŸt) Â»zugleich eine Antwort auf die Frage\, ob es auch auf der sozialistischen Insel Antisemitismus gibtÂ«. Sie besuchte die dortigen JÃ¼dischen Gemeinden und die erzÃ¤hlten ihr nichts dergleichen\, empfanden ihren Besuch aber trotzdem als Gewinn\, wie der VizeprÃ¤sident der kubanischen jÃ¼dischen Gemeinde David Prinstein betont. \nDer Film enthÃ¤lt eine ganze Reihe von Konzertmitschnitten und Interviews mit Esther Bejarano\, die viel von der AtmosphÃ¤re bei dieser Reise vermitteln und ihre politische Botschaft deutlich erkennen lassen. Erstaunlich ist die GruÃŸbotschaft der Deutschen Botschaft Havanna: Sie habe Â»Esther Bejaranos Besuch in Havanna mit Freude unterstÃ¼tzt. Sie war eine groÃŸartige Botschafterin. Gegen Antisemitismus und Rechtsradikalismus\, fÃ¼r ein friedliches Miteinander aller Menschen auf der ganzen Welt. Sie hat ihr Publikum beeindruckt\, als KÃ¼nstlerin wie als Zeitzeugin.Â« \nWÃ¤hrend der Filmpremiere am vergangenen Sonntag im Hamburger PolittbÃ¼ro fand eine Szene besondere Beachtung. Die Journalistin Peggy Parnass Ã¤uÃŸerte: Â»Allein das GesprÃ¤ch\, das Esther mit dem schwerbehinderten Jugendlichen Ã¼ber ihre Verfolgung im Faschismus fÃ¼hrt\, ist es wert\, als Kurzfilm gezeigt zu werden.Â« \nhttps://www.jungewelt.de/artikel/334482.wann-geht-der-himmel-wieder-auf.html \n
URL:http://www.netzwerk-cuba.de/event/wann-geht-der-himmel-wieder-auf-esther-bejaranos-kuba-tour-als-dokfilm/
END:VEVENT
BEGIN:VEVENT
DTSTART;TZID=Europe/Berlin:20180630T120000
DTEND;TZID=Europe/Berlin:20180630T120000
DTSTAMP:20180623T151251
CREATED:20180616T091813Z
LAST-MODIFIED:20180616T091813Z
UID:3348-1530360000-1530360000@www.netzwerk-cuba.de
SUMMARY:23. Methfesselfest - 29.Juni bis 1. Juli 2018 Hamburg
DESCRIPTION:Gesundheitssystem in Cuba\nCuba macht es vor: Ein Gesundheitssystem nach sozialistischen Werten.Â  Solidarisch fÃ¼r das Recht auf Gesundheit weltweit! Cuba SÃ­ Hamburg und der Publizist Volker Hermsdorf \n12:00 UhrÂ  im Kulturzelt \nElse-Rauch-Platz\, Hamburg- EimsbÃ¼ttel \nhttp://www.methfesselfest.de/index.php?page=kontakt \n
URL:http://www.netzwerk-cuba.de/event/23-methfesselfest-29-juni-bis-1-juli-2018-hamburg/
END:VEVENT
BEGIN:VEVENT
DTSTART;TZID=Europe/Berlin:20180728T140000
DTEND;TZID=Europe/Berlin:20180728T220000
DTSTAMP:20180623T151251
CREATED:20180603T075738Z
LAST-MODIFIED:20180603T075739Z
UID:3291-1532786400-1532815200@www.netzwerk-cuba.de
SUMMARY:Zur Fiesta de Solidaridad nach Berlin!
DESCRIPTION:\nAm 28. Juli 2017 feiert die AG Cuba SÃ­ wieder die traditionelle â€žFiesta de Solidaridadâ€œ in Berlin. \nâ€žMan fÃ¼hlt sich wie in Kuba!â€œ â€“ so erzÃ¤hlen es jedes Jahr die Besucher der â€žFiesta de Solidaridadâ€œ. Die AG Cuba SÃ­ lÃ¤dt am 28 Juli 2018 wieder Kubafreund*innen aus dem In- und Ausland zu diesem groÃŸen SolidaritÃ¤tsfest in die Berliner â€žParkaueâ€œ ein. \nAuch in diesem Jahr erwartet die Besucher*innen ein umfangreiches Programm: Musik\, VortrÃ¤ge\, Ausstellungen und Diskussionen\, auch gibt es Baseball\, Boxen und Domino. An Ã¼ber 50 StÃ¤nden locken karibische Cocktails\, leckeres Essen\, Infos aus Kuba und Lateinamerika sowie interessante GesprÃ¤che. \nFÃ¼r die Talkrunden hat Cuba SÃ­ interessante GÃ¤ste eingeladen\, so zum Beispiel den kubanischen Kosmonauten Arnaldo Tamayo\, angekÃ¼ndigt hat sich auch sein â€žInterkosmosâ€œ-Kollege Siegmund JÃ¤hn. Bei der Fiesta dabei sind auch MarÃ­a del Carmen Cejas\, PrÃ¤sidentin unserer Partnerorganisation fÃ¼r die Milchprojekte (ACPA)\, sowie Elio GÃ¡mez\, VizeprÃ¤sident des Kubanischen Instituts fÃ¼r VÃ¶lkerfreundschaft. \nDie kleinen Fiesta-Besucher kÃ¶nnen sich auf ein wunderbares Kinderfest freuen\, und bei unserer SolidaritÃ¤tstombola ist der Hauptpreis ein Flugticket nach Kuba. \nAm Abend steht die Band â€žChe Sudakaâ€œ live auf der Fiesta-BÃ¼hne! Und fÃ¼r die NimmermÃ¼den beginnt um 22 Uhr eine After-Show-Party im Stadtteilladen â€žZielona Goraâ€œ. am Boxhagener Platz\, GrÃ¼nberger Str. 73\, 10245 Berlin. \nâ€žUmsonst und drauÃŸenâ€œ â€“ so feiern wir die â€žFiesta de Solidaridadâ€œ auch in diesem Jahr! Wer sich trotzdem an der Finanzierung unseres Solifestes beteiligen mÃ¶chte\, kann dies mit einer Spende von 5 Euro tun. DafÃ¼r gibtâ€™s den Soli-Button â€“ getragen am T-Shirt oder am Rucksack macht er Euch als UnterstÃ¼tzer der Fiesta erkennbar. Und wer Lust hat\, am Fiesta-Tag dem Organisationsteam zu helfen â€“ beim Auf- oder Abbau\, beim Cocktail-Mixen\, beim Bierverkauf oder beim Verkauf der Lose â€“\, der melde sich bitte unter (function(){var ml="n.04k2aAhecC3Dir%gumFEs-bloft"\,mi="@1J?A@55@52:I6FF@ILJGI>04@52C6>ILJGI>04@55@0@32:BH6GF>1J?A@
URL:http://www.netzwerk-cuba.de/event/zur-fiesta-de-solidaridad-nach-berlin/
END:VEVENT
BEGIN:VEVENT
DTSTART;TZID=Europe/Berlin:20180811T150000
DTEND;TZID=Europe/Berlin:20180811T220000
DTSTAMP:20180623T151251
CREATED:20180604T091334Z
LAST-MODIFIED:20180604T091334Z
UID:3298-1533999600-1534024800@www.netzwerk-cuba.de
SUMMARY:25. Fiesta Moncada
DESCRIPTION:\n\n\n\nFest der Freundschaft am 11.8.18 \nBotschaft der Republik Cuba\, \nAuÃŸenstelle Bonn\, Kennedy-Allee 22-24 \n15- 22 Uhr \nEintritt frei \n \nfly-a5-FotoÂ Â Â Â  moncada-plakat-a1 \n\n
URL:http://www.netzwerk-cuba.de/event/25-fiesta-moncada/
END:VEVENT
END:VCALENDAR